
BEGIN:VCALENDAR
VERSION:2.0
PRODID:-//85.13.157.133//NONSGML kigkonsult.se iCalcreator 2.20//
CALSCALE:GREGORIAN
METHOD:PUBLISH
X-WR-TIMEZONE:Europe/Berlin
BEGIN:VEVENT
UID:event1618@NaturFreunde Bielefeld e.V.
DTSTAMP:20260420T061045Z
CATEGORIES:Wanderungen
DESCRIPTION:Wanderung ab dem Tierpark Olderdisse\nKategorie: Wanderungen\nI
 CS-Link: https://www.test.naturfreunde-bielefeld.de/index.php?option=com_j
 em&view=event&id=1618:wanderung-ab-dem-tierpark-olderdisse\n
DTSTART;VALUE=DATE:20250209
DTEND;VALUE=DATE:20250210
SUMMARY:Wanderung ab dem Tierpark Olderdisse
URL:https://www.test.naturfreunde-bielefeld.de/index.php?option=com_jem&vie
 w=event&id=1618:wanderung-ab-dem-tierpark-olderdisse
END:VEVENT
END:VCALENDAR
