
BEGIN:VCALENDAR
VERSION:2.0
PRODID:-//85.13.157.133//NONSGML kigkonsult.se iCalcreator 2.20//
CALSCALE:GREGORIAN
METHOD:PUBLISH
X-WR-TIMEZONE:Europe/Berlin
BEGIN:VEVENT
UID:event1619@NaturFreunde Bielefeld e.V.
DTSTAMP:20260421T134208Z
CATEGORIES:Wanderungen
DESCRIPTION:Wanderung über A3 Dornberg und weitere Wege nach Olderdissen\nK
 ategorie: Wanderungen\nICS-Link: https://www.test.naturfreunde-bielefeld.d
 e/index.php?option=com_jem&view=event&id=1619:wanderung-ueber-a3-dornberg-
 und-weitere-wege-nach-olderdissen\n
DTSTART;VALUE=DATE:20250125
DTEND;VALUE=DATE:20250126
SUMMARY:Wanderung über A3 Dornberg und weitere Wege nach Olderdissen
URL:https://www.test.naturfreunde-bielefeld.de/index.php?option=com_jem&vie
 w=event&id=1619:wanderung-ueber-a3-dornberg-und-weitere-wege-nach-olderdis
 sen
END:VEVENT
END:VCALENDAR
