
BEGIN:VCALENDAR
VERSION:2.0
PRODID:-//85.13.157.133//NONSGML kigkonsult.se iCalcreator 2.20//
CALSCALE:GREGORIAN
METHOD:PUBLISH
X-WR-TIMEZONE:Europe/Berlin
BEGIN:VEVENT
UID:event1620@NaturFreunde Bielefeld e.V.
DTSTAMP:20260420T011751Z
CATEGORIES:Kultur
DESCRIPTION:Jahresrückblick der NaturFreunde Bielefeld mit Elke\nKategorie:
  Kultur\nICS-Link: https://www.test.naturfreunde-bielefeld.de/index.php?op
 tion=com_jem&view=event&id=1620:jahresrueckblick-der-naturfreunde-bielefel
 d-mit-elke\n
DTSTART;VALUE=DATE:20250110
DTEND;VALUE=DATE:20250111
SUMMARY:Jahresrückblick der NaturFreunde Bielefeld mit Elke
URL:https://www.test.naturfreunde-bielefeld.de/index.php?option=com_jem&vie
 w=event&id=1620:jahresrueckblick-der-naturfreunde-bielefeld-mit-elke
END:VEVENT
END:VCALENDAR
