
BEGIN:VCALENDAR
VERSION:2.0
PRODID:-//85.13.157.133//NONSGML kigkonsult.se iCalcreator 2.20//
CALSCALE:GREGORIAN
METHOD:PUBLISH
X-WR-TIMEZONE:Europe/Berlin
BEGIN:VEVENT
UID:event1636@NaturFreunde Bielefeld e.V.
DTSTAMP:20260424T085022Z
CATEGORIES:Jugend
DESCRIPTION:Arbeitseinsatz auf dem Ith-Campingplatz\nKategorie: Jugend\nICS
 -Link: https://www.test.naturfreunde-bielefeld.de/index.php?option=com_jem
 &view=event&id=1636:arbeitseinsatz-auf-dem-ith-campingplatz\n
DTSTART;VALUE=DATE:20250321
DTEND;VALUE=DATE:20250324
SUMMARY:Arbeitseinsatz auf dem Ith-Campingplatz
URL:https://www.test.naturfreunde-bielefeld.de/index.php?option=com_jem&vie
 w=event&id=1636:arbeitseinsatz-auf-dem-ith-campingplatz
END:VEVENT
END:VCALENDAR
