
BEGIN:VCALENDAR
VERSION:2.0
PRODID:-//85.13.157.133//NONSGML kigkonsult.se iCalcreator 2.20//
CALSCALE:GREGORIAN
METHOD:PUBLISH
X-WR-TIMEZONE:Europe/Berlin
BEGIN:VEVENT
UID:event1637@NaturFreunde Bielefeld e.V.
DTSTAMP:20260422T090640Z
CATEGORIES:Jugend
DESCRIPTION:Cash in trash out (Müllsammelaktion)\nKategorie: Jugend\nICS-Li
 nk: https://www.test.naturfreunde-bielefeld.de/index.php?option=com_jem&vi
 ew=event&id=1637:cash-in-trash-out-muellsammelaktion\n
DTSTART;VALUE=DATE:20250329
DTEND;VALUE=DATE:20250330
SUMMARY:Cash in trash out (Müllsammelaktion)
URL:https://www.test.naturfreunde-bielefeld.de/index.php?option=com_jem&vie
 w=event&id=1637:cash-in-trash-out-muellsammelaktion
END:VEVENT
END:VCALENDAR
