
BEGIN:VCALENDAR
VERSION:2.0
PRODID:-//85.13.157.133//NONSGML kigkonsult.se iCalcreator 2.20//
CALSCALE:GREGORIAN
METHOD:PUBLISH
X-WR-TIMEZONE:Europe/Berlin
BEGIN:VEVENT
UID:event1654@NaturFreunde Bielefeld e.V.
DTSTAMP:20260423T113630Z
CATEGORIES:Ortsgruppe
DESCRIPTION:Frieden in Bewegung\nKategorie: Ortsgruppe\nICS-Link: https://w
 ww.test.naturfreunde-bielefeld.de/index.php?option=com_jem&view=event&id=1
 654:frieden-in-bewegung\n
DTSTART;TZID=Europe/Berlin:20250515T150000
DTEND;TZID=Europe/Berlin:20250515T180000
SUMMARY:Frieden in Bewegung
URL:https://www.test.naturfreunde-bielefeld.de/index.php?option=com_jem&vie
 w=event&id=1654:frieden-in-bewegung
END:VEVENT
END:VCALENDAR
