
BEGIN:VCALENDAR
VERSION:2.0
PRODID:-//85.13.157.133//NONSGML kigkonsult.se iCalcreator 2.20//
CALSCALE:GREGORIAN
METHOD:PUBLISH
X-WR-TIMEZONE:Europe/Berlin
BEGIN:VEVENT
UID:event2459@NaturFreunde Bielefeld e.V.
DTSTAMP:20260419T202814Z
CATEGORIES:Kanu
DESCRIPTION:Weihnachtsfeier im Naturfreundehaus Oerlinghausen\nKategorie: K
 anu\nICS-Link: https://www.test.naturfreunde-bielefeld.de/index.php?option
 =com_jem&view=event&id=2459:weihnachtsfeier-im-naturfreundehaus-oerlinghau
 sen\n
DTSTART;VALUE=DATE:20241130
DTEND;VALUE=DATE:20241202
SUMMARY:Weihnachtsfeier im Naturfreundehaus Oerlinghausen
URL:https://www.test.naturfreunde-bielefeld.de/index.php?option=com_jem&vie
 w=event&id=2459:weihnachtsfeier-im-naturfreundehaus-oerlinghausen
END:VEVENT
END:VCALENDAR
