
BEGIN:VCALENDAR
VERSION:2.0
PRODID:-//85.13.157.133//NONSGML kigkonsult.se iCalcreator 2.20//
CALSCALE:GREGORIAN
METHOD:PUBLISH
X-WR-TIMEZONE:Europe/Berlin
BEGIN:VEVENT
UID:event2485@NaturFreunde Bielefeld e.V.
DTSTAMP:20260420T093202Z
CATEGORIES:Kanu
DESCRIPTION:Paddelausflug auf der Nethe\nKategorie: Kanu\nICS-Link: https:/
 /www.test.naturfreunde-bielefeld.de/index.php?option=com_jem&view=event&id
 =2485:paddelausflug-auf-der-nethe\n
DTSTART;VALUE=DATE:20250330
DTEND;VALUE=DATE:20250331
SUMMARY:Paddelausflug auf der Nethe
URL:https://www.test.naturfreunde-bielefeld.de/index.php?option=com_jem&vie
 w=event&id=2485:paddelausflug-auf-der-nethe
END:VEVENT
END:VCALENDAR
