
BEGIN:VCALENDAR
VERSION:2.0
PRODID:-//85.13.157.133//NONSGML kigkonsult.se iCalcreator 2.20//
CALSCALE:GREGORIAN
METHOD:PUBLISH
X-WR-TIMEZONE:Europe/Berlin
BEGIN:VEVENT
UID:event2491@NaturFreunde Bielefeld e.V.
DTSTAMP:20260420T061023Z
CATEGORIES:Senioren
DESCRIPTION:Senioren-Kaffeeklön\nKategorie: Senioren\nICS-Link: https://www
 .test.naturfreunde-bielefeld.de/index.php?option=com_jem&view=event&id=249
 1:senioren-kaffeekloen\n
DTSTART;VALUE=DATE:20250205
DTEND;VALUE=DATE:20250206
SUMMARY:Senioren-Kaffeeklön
URL:https://www.test.naturfreunde-bielefeld.de/index.php?option=com_jem&vie
 w=event&id=2491:senioren-kaffeekloen
END:VEVENT
END:VCALENDAR
