
BEGIN:VCALENDAR
VERSION:2.0
PRODID:-//85.13.157.133//NONSGML kigkonsult.se iCalcreator 2.20//
CALSCALE:GREGORIAN
METHOD:PUBLISH
X-WR-TIMEZONE:Europe/Berlin
BEGIN:VEVENT
UID:event2507@NaturFreunde Bielefeld e.V.
DTSTAMP:20260420T075208Z
CATEGORIES:Ortsgruppe
DESCRIPTION:Mitgliederversammlun\nKategorie: Ortsgruppe\nICS-Link: https://
 www.test.naturfreunde-bielefeld.de/index.php?option=com_jem&view=event&id=
 2507:mitgliederversammlun\n
DTSTART;VALUE=DATE:20250309
DTEND;VALUE=DATE:20250310
SUMMARY:Mitgliederversammlun
URL:https://www.test.naturfreunde-bielefeld.de/index.php?option=com_jem&vie
 w=event&id=2507:mitgliederversammlun
END:VEVENT
END:VCALENDAR
