
BEGIN:VCALENDAR
VERSION:2.0
PRODID:-//85.13.157.133//NONSGML kigkonsult.se iCalcreator 2.20//
CALSCALE:GREGORIAN
METHOD:PUBLISH
X-WR-TIMEZONE:Europe/Berlin
BEGIN:VEVENT
UID:event2512@NaturFreunde Bielefeld e.V.
DTSTAMP:20260420T093508Z
CATEGORIES:Wanderungen
DESCRIPTION:Rundwanderung auf dem Altenauweg\nKategorie: Wanderungen\nICS-L
 ink: https://www.test.naturfreunde-bielefeld.de/index.php?option=com_jem&v
 iew=event&id=2512:rundwanderung-auf-dem-altenauweg\n
DTSTART;VALUE=DATE:20250308
DTEND;VALUE=DATE:20250309
SUMMARY:Rundwanderung auf dem Altenauweg
URL:https://www.test.naturfreunde-bielefeld.de/index.php?option=com_jem&vie
 w=event&id=2512:rundwanderung-auf-dem-altenauweg
END:VEVENT
END:VCALENDAR
