
BEGIN:VCALENDAR
VERSION:2.0
PRODID:-//85.13.157.133//NONSGML kigkonsult.se iCalcreator 2.20//
CALSCALE:GREGORIAN
METHOD:PUBLISH
X-WR-TIMEZONE:Europe/Berlin
BEGIN:VEVENT
UID:event2521@NaturFreunde Bielefeld e.V.
DTSTAMP:20260422T104149Z
CATEGORIES:Kultur
DESCRIPTION:Künstliche Befruchtung und andere Tabuthemen\nKategorie: Kultur
 \nICS-Link: https://www.test.naturfreunde-bielefeld.de/index.php?option=co
 m_jem&view=event&id=2521:kuenstliche-befruchtung-und-andere-tabuthemen\n
DTSTART;VALUE=DATE:20250131
DTEND;VALUE=DATE:20250201
SUMMARY:Künstliche Befruchtung und andere Tabuthemen
URL:https://www.test.naturfreunde-bielefeld.de/index.php?option=com_jem&vie
 w=event&id=2521:kuenstliche-befruchtung-und-andere-tabuthemen
END:VEVENT
END:VCALENDAR
