
BEGIN:VCALENDAR
VERSION:2.0
PRODID:-//85.13.157.133//NONSGML kigkonsult.se iCalcreator 2.20//
CALSCALE:GREGORIAN
METHOD:PUBLISH
X-WR-TIMEZONE:Europe/Berlin
BEGIN:VEVENT
UID:event2524@NaturFreunde Bielefeld e.V.
DTSTAMP:20260420T061519Z
CATEGORIES:Kultur
DESCRIPTION:Gemütlicher Klönabend im Naturfreundehaus\nKategorie: Kultur\nI
 CS-Link: https://www.test.naturfreunde-bielefeld.de/index.php?option=com_j
 em&view=event&id=2524:gemuetlicher-kloenabend-im-naturfreundehaus\n
DTSTART;VALUE=DATE:20250228
DTEND;VALUE=DATE:20250301
SUMMARY:Gemütlicher Klönabend im Naturfreundehaus
URL:https://www.test.naturfreunde-bielefeld.de/index.php?option=com_jem&vie
 w=event&id=2524:gemuetlicher-kloenabend-im-naturfreundehaus
END:VEVENT
END:VCALENDAR
