
BEGIN:VCALENDAR
VERSION:2.0
PRODID:-//85.13.157.133//NONSGML kigkonsult.se iCalcreator 2.20//
CALSCALE:GREGORIAN
METHOD:PUBLISH
X-WR-TIMEZONE:Europe/Berlin
BEGIN:VEVENT
UID:event2536@NaturFreunde Bielefeld e.V.
DTSTAMP:20260421T133604Z
CATEGORIES:Jugend
DESCRIPTION:Juleica Gruppenleiter*innen-Ausbildung\nKategorie: Jugend\nICS-
 Link: https://www.test.naturfreunde-bielefeld.de/index.php?option=com_jem&
 view=event&id=2536:juleica-gruppenleiter-innen-ausbildung\n
DTSTART;VALUE=DATE:20250413
DTEND;VALUE=DATE:20250429
SUMMARY:Juleica Gruppenleiter*innen-Ausbildung
URL:https://www.test.naturfreunde-bielefeld.de/index.php?option=com_jem&vie
 w=event&id=2536:juleica-gruppenleiter-innen-ausbildung
END:VEVENT
END:VCALENDAR
