
BEGIN:VCALENDAR
VERSION:2.0
PRODID:-//85.13.157.133//NONSGML kigkonsult.se iCalcreator 2.20//
CALSCALE:GREGORIAN
METHOD:PUBLISH
X-WR-TIMEZONE:Europe/Berlin
BEGIN:VEVENT
UID:event2537@NaturFreunde Bielefeld e.V.
DTSTAMP:20260421T154711Z
CATEGORIES:Jugend
DESCRIPTION:Kanuwandern auf dem Allier\nKategorie: Jugend\nICS-Link: https:
 //www.test.naturfreunde-bielefeld.de/index.php?option=com_jem&view=event&i
 d=2537:kanuwandern-auf-dem-allier\n
DTSTART;VALUE=DATE:20250418
DTEND;VALUE=DATE:20250427
SUMMARY:Kanuwandern auf dem Allier
URL:https://www.test.naturfreunde-bielefeld.de/index.php?option=com_jem&vie
 w=event&id=2537:kanuwandern-auf-dem-allier
END:VEVENT
END:VCALENDAR
