
BEGIN:VCALENDAR
VERSION:2.0
PRODID:-//85.13.157.133//NONSGML kigkonsult.se iCalcreator 2.20//
CALSCALE:GREGORIAN
METHOD:PUBLISH
X-WR-TIMEZONE:Europe/Berlin
BEGIN:VEVENT
UID:event2538@NaturFreunde Bielefeld e.V.
DTSTAMP:20260421T153941Z
CATEGORIES:Jugend
DESCRIPTION:Frühlingsferienspiele am Meierhof\nKategorie: Jugend\nICS-Link:
  https://www.test.naturfreunde-bielefeld.de/index.php?option=com_jem&view=
 event&id=2538:fruehlingsferienspiele-am-meierhof\n
DTSTART;VALUE=DATE:20250422
DTEND;VALUE=DATE:20250426
SUMMARY:Frühlingsferienspiele am Meierhof
URL:https://www.test.naturfreunde-bielefeld.de/index.php?option=com_jem&vie
 w=event&id=2538:fruehlingsferienspiele-am-meierhof
END:VEVENT
END:VCALENDAR
