
BEGIN:VCALENDAR
VERSION:2.0
PRODID:-//85.13.157.133//NONSGML kigkonsult.se iCalcreator 2.20//
CALSCALE:GREGORIAN
METHOD:PUBLISH
X-WR-TIMEZONE:Europe/Berlin
BEGIN:VEVENT
UID:event2539@NaturFreunde Bielefeld e.V.
DTSTAMP:20260420T093151Z
CATEGORIES:Bouldern
DESCRIPTION:Bouldersession\nKategorie: Bouldern\nICS-Link: https://www.test
 .naturfreunde-bielefeld.de/index.php?option=com_jem&view=event&id=2539:bou
 ldersession\n
DTSTART;VALUE=DATE:20250329
DTEND;VALUE=DATE:20250330
SUMMARY:Bouldersession
URL:https://www.test.naturfreunde-bielefeld.de/index.php?option=com_jem&vie
 w=event&id=2539:bouldersession
END:VEVENT
END:VCALENDAR
