
BEGIN:VCALENDAR
VERSION:2.0
PRODID:-//85.13.157.133//NONSGML kigkonsult.se iCalcreator 2.20//
CALSCALE:GREGORIAN
METHOD:PUBLISH
X-WR-TIMEZONE:Europe/Berlin
BEGIN:VEVENT
UID:event2545@NaturFreunde Bielefeld e.V.
DTSTAMP:20260421T134158Z
CATEGORIES:Kultur
DESCRIPTION:Nachholtermin: Rudis Wasserzyklus Teil 5.\nKategorie: Kultur\nI
 CS-Link: https://www.test.naturfreunde-bielefeld.de/index.php?option=com_j
 em&view=event&id=2545:nachholtermin-rudis-wasserzyklus-teil-5\n
DTSTART;VALUE=DATE:20250509
DTEND;VALUE=DATE:20250510
SUMMARY:Nachholtermin: Rudis Wasserzyklus Teil 5.
URL:https://www.test.naturfreunde-bielefeld.de/index.php?option=com_jem&vie
 w=event&id=2545:nachholtermin-rudis-wasserzyklus-teil-5
END:VEVENT
END:VCALENDAR
