
BEGIN:VCALENDAR
VERSION:2.0
PRODID:-//85.13.157.133//NONSGML kigkonsult.se iCalcreator 2.20//
CALSCALE:GREGORIAN
METHOD:PUBLISH
X-WR-TIMEZONE:Europe/Berlin
BEGIN:VEVENT
UID:event2546@NaturFreunde Bielefeld e.V.
DTSTAMP:20260419T235305Z
CATEGORIES:Wanderungen
DESCRIPTION:Rundwanderung auf dem Altenauweg\, 3. Etappe\nKategorie: Wander
 ungen\nICS-Link: https://www.test.naturfreunde-bielefeld.de/index.php?opti
 on=com_jem&view=event&id=2546:rundwanderung-auf-dem-altenauweg-3-etappe\n
DTSTART;VALUE=DATE:20250510
DTEND;VALUE=DATE:20250511
SUMMARY:Rundwanderung auf dem Altenauweg\, 3. Etappe
URL:https://www.test.naturfreunde-bielefeld.de/index.php?option=com_jem&vie
 w=event&id=2546:rundwanderung-auf-dem-altenauweg-3-etappe
END:VEVENT
END:VCALENDAR
