
BEGIN:VCALENDAR
VERSION:2.0
PRODID:-//85.13.157.133//NONSGML kigkonsult.se iCalcreator 2.20//
CALSCALE:GREGORIAN
METHOD:PUBLISH
X-WR-TIMEZONE:Europe/Berlin
BEGIN:VEVENT
UID:event2548@NaturFreunde Bielefeld e.V.
DTSTAMP:20260423T102637Z
CATEGORIES:Radtouren
DESCRIPTION:Radtour im Bio-Bike-Tempo\nKategorie: Radtouren\nICS-Link: http
 s://www.test.naturfreunde-bielefeld.de/index.php?option=com_jem&view=event
 &id=2548:radtour-im-bio-bike-tempo\n
DTSTART;VALUE=DATE:20250510
DTEND;VALUE=DATE:20250511
SUMMARY:Radtour im Bio-Bike-Tempo
URL:https://www.test.naturfreunde-bielefeld.de/index.php?option=com_jem&vie
 w=event&id=2548:radtour-im-bio-bike-tempo
END:VEVENT
END:VCALENDAR
