
BEGIN:VCALENDAR
VERSION:2.0
PRODID:-//85.13.157.133//NONSGML kigkonsult.se iCalcreator 2.20//
CALSCALE:GREGORIAN
METHOD:PUBLISH
X-WR-TIMEZONE:Europe/Berlin
BEGIN:VEVENT
UID:event2549@NaturFreunde Bielefeld e.V.
DTSTAMP:20260421T150053Z
CATEGORIES:Jugend
DESCRIPTION:Paddelfestival in Hohemlimburg\nKategorie: Jugend\nICS-Link: ht
 tps://www.test.naturfreunde-bielefeld.de/index.php?option=com_jem&view=eve
 nt&id=2549:paddelfestival-in-hohemlimburg\n
DTSTART;VALUE=DATE:20250510
DTEND;VALUE=DATE:20250512
SUMMARY:Paddelfestival in Hohemlimburg
URL:https://www.test.naturfreunde-bielefeld.de/index.php?option=com_jem&vie
 w=event&id=2549:paddelfestival-in-hohemlimburg
END:VEVENT
END:VCALENDAR
