
BEGIN:VCALENDAR
VERSION:2.0
PRODID:-//85.13.157.133//NONSGML kigkonsult.se iCalcreator 2.20//
CALSCALE:GREGORIAN
METHOD:PUBLISH
X-WR-TIMEZONE:Europe/Berlin
BEGIN:VEVENT
UID:event2550@NaturFreunde Bielefeld e.V.
DTSTAMP:20260423T101710Z
CATEGORIES:Ortsgruppe
DESCRIPTION:Wanderung 'Frieden in Bewegung'\nKategorie: Ortsgruppe\nICS-Lin
 k: https://www.test.naturfreunde-bielefeld.de/index.php?option=com_jem&vie
 w=event&id=2550:wanderung-frieden-in-bewegung\n
DTSTART;TZID=Europe/Berlin:20250515T114500
DTEND;TZID=Europe/Berlin:20250515T160000
SUMMARY:Wanderung 'Frieden in Bewegung'
URL:https://www.test.naturfreunde-bielefeld.de/index.php?option=com_jem&vie
 w=event&id=2550:wanderung-frieden-in-bewegung
END:VEVENT
END:VCALENDAR
