
BEGIN:VCALENDAR
VERSION:2.0
PRODID:-//85.13.157.133//NONSGML kigkonsult.se iCalcreator 2.20//
CALSCALE:GREGORIAN
METHOD:PUBLISH
X-WR-TIMEZONE:Europe/Berlin
BEGIN:VEVENT
UID:event2551@NaturFreunde Bielefeld e.V.
DTSTAMP:20260421T135310Z
CATEGORIES:Ortsgruppe
DESCRIPTION:Radtour 'Frieden in Bewegung'\nKategorie: Ortsgruppe\nICS-Link:
  https://www.test.naturfreunde-bielefeld.de/index.php?option=com_jem&view=
 event&id=2551:radtour-frieden-in-bewegung\n
DTSTART;TZID=Europe/Berlin:20250515T113000
DTEND;TZID=Europe/Berlin:20250515T160000
SUMMARY:Radtour 'Frieden in Bewegung'
URL:https://www.test.naturfreunde-bielefeld.de/index.php?option=com_jem&vie
 w=event&id=2551:radtour-frieden-in-bewegung
END:VEVENT
END:VCALENDAR
