
BEGIN:VCALENDAR
VERSION:2.0
PRODID:-//85.13.157.133//NONSGML kigkonsult.se iCalcreator 2.20//
CALSCALE:GREGORIAN
METHOD:PUBLISH
X-WR-TIMEZONE:Europe/Berlin
BEGIN:VEVENT
UID:event2553@NaturFreunde Bielefeld e.V.
DTSTAMP:20260419T202532Z
CATEGORIES:Ortsgruppe
DESCRIPTION:Wanderung 'Frieden in Bewegung'\nKategorie: Ortsgruppe\nICS-Lin
 k: https://www.test.naturfreunde-bielefeld.de/index.php?option=com_jem&vie
 w=event&id=2553:wanderung-frieden-in-bewegung\n
DTSTART;VALUE=DATE:20250516
DTEND;VALUE=DATE:20250517
SUMMARY:Wanderung 'Frieden in Bewegung'
URL:https://www.test.naturfreunde-bielefeld.de/index.php?option=com_jem&vie
 w=event&id=2553:wanderung-frieden-in-bewegung
END:VEVENT
END:VCALENDAR
