
BEGIN:VCALENDAR
VERSION:2.0
PRODID:-//85.13.157.133//NONSGML kigkonsult.se iCalcreator 2.20//
CALSCALE:GREGORIAN
METHOD:PUBLISH
X-WR-TIMEZONE:Europe/Berlin
BEGIN:VEVENT
UID:event2555@NaturFreunde Bielefeld e.V.
DTSTAMP:20260419T220302Z
CATEGORIES:Ortsgruppe
DESCRIPTION:Frieden in Bewegung\nKategorie: Ortsgruppe\nICS-Link: https://w
 ww.test.naturfreunde-bielefeld.de/index.php?option=com_jem&view=event&id=2
 555:frieden-in-bewegung\n
DTSTART;TZID=Europe/Berlin:20250516T190000
DTEND;TZID=Europe/Berlin:20250516T200000
SUMMARY:Frieden in Bewegung
URL:https://www.test.naturfreunde-bielefeld.de/index.php?option=com_jem&vie
 w=event&id=2555:frieden-in-bewegung
END:VEVENT
END:VCALENDAR
