
BEGIN:VCALENDAR
VERSION:2.0
PRODID:-//85.13.157.133//NONSGML kigkonsult.se iCalcreator 2.20//
CALSCALE:GREGORIAN
METHOD:PUBLISH
X-WR-TIMEZONE:Europe/Berlin
BEGIN:VEVENT
UID:event2557@NaturFreunde Bielefeld e.V.
DTSTAMP:20260419T202518Z
CATEGORIES:Kanu
DESCRIPTION:1. DKV Anfängerschulung/Schnupperfahrt auf der Werre\nKategorie
 : Kanu\nICS-Link: https://www.test.naturfreunde-bielefeld.de/index.php?opt
 ion=com_jem&view=event&id=2557:1-dkv-anfaengerschulung-schnupperfahrt-auf-
 der-werre\n
DTSTART;VALUE=DATE:20250517
DTEND;VALUE=DATE:20250518
SUMMARY:1. DKV Anfängerschulung/Schnupperfahrt auf der Werre
URL:https://www.test.naturfreunde-bielefeld.de/index.php?option=com_jem&vie
 w=event&id=2557:1-dkv-anfaengerschulung-schnupperfahrt-auf-der-werre
END:VEVENT
END:VCALENDAR
