
BEGIN:VCALENDAR
VERSION:2.0
PRODID:-//85.13.157.133//NONSGML kigkonsult.se iCalcreator 2.20//
CALSCALE:GREGORIAN
METHOD:PUBLISH
X-WR-TIMEZONE:Europe/Berlin
BEGIN:VEVENT
UID:event2558@NaturFreunde Bielefeld e.V.
DTSTAMP:20260419T202459Z
CATEGORIES:Ortsgruppe
DESCRIPTION:Wanderung ca. 14 km ab Sieker-Endstation\nKategorie: Ortsgruppe
 \nICS-Link: https://www.test.naturfreunde-bielefeld.de/index.php?option=co
 m_jem&view=event&id=2558:wanderung-ca-14-km-ab-sieker-endstation\n
DTSTART;VALUE=DATE:20250517
DTEND;VALUE=DATE:20250518
SUMMARY:Wanderung ca. 14 km ab Sieker-Endstation
URL:https://www.test.naturfreunde-bielefeld.de/index.php?option=com_jem&vie
 w=event&id=2558:wanderung-ca-14-km-ab-sieker-endstation
END:VEVENT
END:VCALENDAR
