
BEGIN:VCALENDAR
VERSION:2.0
PRODID:-//85.13.157.133//NONSGML kigkonsult.se iCalcreator 2.20//
CALSCALE:GREGORIAN
METHOD:PUBLISH
X-WR-TIMEZONE:Europe/Berlin
BEGIN:VEVENT
UID:event2559@NaturFreunde Bielefeld e.V.
DTSTAMP:20260419T202722Z
CATEGORIES:Ortsgruppe
DESCRIPTION:Radtour ca. 45 km (hin u.zurück)\nKategorie: Ortsgruppe\nICS-Li
 nk: https://www.test.naturfreunde-bielefeld.de/index.php?option=com_jem&vi
 ew=event&id=2559:radtour-ca-45-km-hin-u-zurueck\n
DTSTART;VALUE=DATE:20250517
DTEND;VALUE=DATE:20250518
SUMMARY:Radtour ca. 45 km (hin u.zurück)
URL:https://www.test.naturfreunde-bielefeld.de/index.php?option=com_jem&vie
 w=event&id=2559:radtour-ca-45-km-hin-u-zurueck
END:VEVENT
END:VCALENDAR
