
BEGIN:VCALENDAR
VERSION:2.0
PRODID:-//85.13.157.133//NONSGML kigkonsult.se iCalcreator 2.20//
CALSCALE:GREGORIAN
METHOD:PUBLISH
X-WR-TIMEZONE:Europe/Berlin
BEGIN:VEVENT
UID:event2560@NaturFreunde Bielefeld e.V.
DTSTAMP:20260421T091432Z
CATEGORIES:Ortsgruppe
DESCRIPTION:Baum des Jahres\nKategorie: Ortsgruppe\nICS-Link: https://www.t
 est.naturfreunde-bielefeld.de/index.php?option=com_jem&view=event&id=2560:
 baum-des-jahres\n
DTSTART;VALUE=DATE:20250517
DTEND;VALUE=DATE:20250518
SUMMARY:Baum des Jahres
URL:https://www.test.naturfreunde-bielefeld.de/index.php?option=com_jem&vie
 w=event&id=2560:baum-des-jahres
END:VEVENT
END:VCALENDAR
