
BEGIN:VCALENDAR
VERSION:2.0
PRODID:-//85.13.157.133//NONSGML kigkonsult.se iCalcreator 2.20//
CALSCALE:GREGORIAN
METHOD:PUBLISH
X-WR-TIMEZONE:Europe/Berlin
BEGIN:VEVENT
UID:event2562@NaturFreunde Bielefeld e.V.
DTSTAMP:20260419T221036Z
CATEGORIES:Ortsgruppe
DESCRIPTION:Radtour ca. 65 km (hin u. zurück)\nKategorie: Ortsgruppe\nICS-L
 ink: https://www.test.naturfreunde-bielefeld.de/index.php?option=com_jem&v
 iew=event&id=2562:radtour-ca-65-km-hin-u-zurueck\n
DTSTART;VALUE=DATE:20250518
DTEND;VALUE=DATE:20250519
SUMMARY:Radtour ca. 65 km (hin u. zurück)
URL:https://www.test.naturfreunde-bielefeld.de/index.php?option=com_jem&vie
 w=event&id=2562:radtour-ca-65-km-hin-u-zurueck
END:VEVENT
END:VCALENDAR
