
BEGIN:VCALENDAR
VERSION:2.0
PRODID:-//85.13.157.133//NONSGML kigkonsult.se iCalcreator 2.20//
CALSCALE:GREGORIAN
METHOD:PUBLISH
X-WR-TIMEZONE:Europe/Berlin
BEGIN:VEVENT
UID:event2564@NaturFreunde Bielefeld e.V.
DTSTAMP:20260419T221252Z
CATEGORIES:Kultur
DESCRIPTION:Was Ihr schon immer über die 'KI' wissen wolltet\nKategorie: Ku
 ltur\nICS-Link: https://www.test.naturfreunde-bielefeld.de/index.php?optio
 n=com_jem&view=event&id=2564:was-ihr-schon-immer-ueber-die-ki-wissen-wollt
 et\n
DTSTART;VALUE=DATE:20250523
DTEND;VALUE=DATE:20250524
SUMMARY:Was Ihr schon immer über die 'KI' wissen wolltet
URL:https://www.test.naturfreunde-bielefeld.de/index.php?option=com_jem&vie
 w=event&id=2564:was-ihr-schon-immer-ueber-die-ki-wissen-wolltet
END:VEVENT
END:VCALENDAR
