
BEGIN:VCALENDAR
VERSION:2.0
PRODID:-//85.13.157.133//NONSGML kigkonsult.se iCalcreator 2.20//
CALSCALE:GREGORIAN
METHOD:PUBLISH
X-WR-TIMEZONE:Europe/Berlin
BEGIN:VEVENT
UID:event2568@NaturFreunde Bielefeld e.V.
DTSTAMP:20260419T223636Z
CATEGORIES:Wanderungen
DESCRIPTION:Rundwanderung von Borgholzhausen Bhf\nKategorie: Wanderungen\nI
 CS-Link: https://www.test.naturfreunde-bielefeld.de/index.php?option=com_j
 em&view=event&id=2568:rundwanderung-von-borgholzhausen-bhf\n
DTSTART;VALUE=DATE:20250531
DTEND;VALUE=DATE:20250601
SUMMARY:Rundwanderung von Borgholzhausen Bhf
URL:https://www.test.naturfreunde-bielefeld.de/index.php?option=com_jem&vie
 w=event&id=2568:rundwanderung-von-borgholzhausen-bhf
END:VEVENT
END:VCALENDAR
