
BEGIN:VCALENDAR
VERSION:2.0
PRODID:-//85.13.157.133//NONSGML kigkonsult.se iCalcreator 2.20//
CALSCALE:GREGORIAN
METHOD:PUBLISH
X-WR-TIMEZONE:Europe/Berlin
BEGIN:VEVENT
UID:event2569@NaturFreunde Bielefeld e.V.
DTSTAMP:20260419T202854Z
CATEGORIES:Kanu
DESCRIPTION:Training an der Slalomstrecke in Hohenlimburg (WW)\nKategorie: 
 Kanu\nICS-Link: https://www.test.naturfreunde-bielefeld.de/index.php?optio
 n=com_jem&view=event&id=2569:training-an-der-slalomstrecke-in-hohenlimburg
 -ww\n
DTSTART;VALUE=DATE:20250601
DTEND;VALUE=DATE:20250602
SUMMARY:Training an der Slalomstrecke in Hohenlimburg (WW)
URL:https://www.test.naturfreunde-bielefeld.de/index.php?option=com_jem&vie
 w=event&id=2569:training-an-der-slalomstrecke-in-hohenlimburg-ww
END:VEVENT
END:VCALENDAR
