
BEGIN:VCALENDAR
VERSION:2.0
PRODID:-//85.13.157.133//NONSGML kigkonsult.se iCalcreator 2.20//
CALSCALE:GREGORIAN
METHOD:PUBLISH
X-WR-TIMEZONE:Europe/Berlin
BEGIN:VEVENT
UID:event2572@NaturFreunde Bielefeld e.V.
DTSTAMP:20260421T103445Z
CATEGORIES:Kanu
DESCRIPTION:Wanderfahrt auf der Wümme\nKategorie: Kanu\nICS-Link: https://w
 ww.test.naturfreunde-bielefeld.de/index.php?option=com_jem&view=event&id=2
 572:wanderfahrt-auf-der-wuemme\n
DTSTART;VALUE=DATE:20250606
DTEND;VALUE=DATE:20250610
SUMMARY:Wanderfahrt auf der Wümme
URL:https://www.test.naturfreunde-bielefeld.de/index.php?option=com_jem&vie
 w=event&id=2572:wanderfahrt-auf-der-wuemme
END:VEVENT
END:VCALENDAR
