
BEGIN:VCALENDAR
VERSION:2.0
PRODID:-//85.13.157.133//NONSGML kigkonsult.se iCalcreator 2.20//
CALSCALE:GREGORIAN
METHOD:PUBLISH
X-WR-TIMEZONE:Europe/Berlin
BEGIN:VEVENT
UID:event2573@NaturFreunde Bielefeld e.V.
DTSTAMP:20260419T183442Z
CATEGORIES:Jugend
DESCRIPTION:Pfingstcamp im Ith\nKategorie: Jugend\nICS-Link: https://www.te
 st.naturfreunde-bielefeld.de/index.php?option=com_jem&view=event&id=2573:p
 fingstcamp-im-ith\n
DTSTART;VALUE=DATE:20250607
DTEND;VALUE=DATE:20250610
SUMMARY:Pfingstcamp im Ith
URL:https://www.test.naturfreunde-bielefeld.de/index.php?option=com_jem&vie
 w=event&id=2573:pfingstcamp-im-ith
END:VEVENT
END:VCALENDAR
