
BEGIN:VCALENDAR
VERSION:2.0
PRODID:-//85.13.157.133//NONSGML kigkonsult.se iCalcreator 2.20//
CALSCALE:GREGORIAN
METHOD:PUBLISH
X-WR-TIMEZONE:Europe/Berlin
BEGIN:VEVENT
UID:event2574@NaturFreunde Bielefeld e.V.
DTSTAMP:20260419T202354Z
CATEGORIES:Kultur
DESCRIPTION:Microsoft beendet den Support für WindowsÂ 10\nKategorie: Kultu
 r\nICS-Link: https://www.test.naturfreunde-bielefeld.de/index.php?option=c
 om_jem&view=event&id=2574:microsoft-beendet-den-support-fuer-windows-10\n
DTSTART;VALUE=DATE:20250613
DTEND;VALUE=DATE:20250614
SUMMARY:Microsoft beendet den Support für WindowsÂ 10
URL:https://www.test.naturfreunde-bielefeld.de/index.php?option=com_jem&vie
 w=event&id=2574:microsoft-beendet-den-support-fuer-windows-10
END:VEVENT
END:VCALENDAR
