
BEGIN:VCALENDAR
VERSION:2.0
PRODID:-//85.13.157.133//NONSGML kigkonsult.se iCalcreator 2.20//
CALSCALE:GREGORIAN
METHOD:PUBLISH
X-WR-TIMEZONE:Europe/Berlin
BEGIN:VEVENT
UID:event2575@NaturFreunde Bielefeld e.V.
DTSTAMP:20260421T085149Z
CATEGORIES:Wanderungen
DESCRIPTION:Wanderung durch das Hesseltal\nKategorie: Wanderungen\nICS-Link
 : https://www.test.naturfreunde-bielefeld.de/index.php?option=com_jem&view
 =event&id=2575:wanderung-durch-das-hesseltal\n
DTSTART;VALUE=DATE:20250614
DTEND;VALUE=DATE:20250615
SUMMARY:Wanderung durch das Hesseltal
URL:https://www.test.naturfreunde-bielefeld.de/index.php?option=com_jem&vie
 w=event&id=2575:wanderung-durch-das-hesseltal
END:VEVENT
END:VCALENDAR
