
BEGIN:VCALENDAR
VERSION:2.0
PRODID:-//85.13.157.133//NONSGML kigkonsult.se iCalcreator 2.20//
CALSCALE:GREGORIAN
METHOD:PUBLISH
X-WR-TIMEZONE:Europe/Berlin
BEGIN:VEVENT
UID:event2578@NaturFreunde Bielefeld e.V.
DTSTAMP:20260419T202753Z
CATEGORIES:Mountainbike
DESCRIPTION:MTB-Ladies-Session an den NF-Trails in Oerlinghausen\nKategorie
 : Mountainbike\nICS-Link: https://www.test.naturfreunde-bielefeld.de/index
 .php?option=com_jem&view=event&id=2578:mtb-ladies-session-an-den-nf-trails
 -in-oerlinghausen\n
DTSTART;VALUE=DATE:20250615
DTEND;VALUE=DATE:20250616
SUMMARY:MTB-Ladies-Session an den NF-Trails in Oerlinghausen
URL:https://www.test.naturfreunde-bielefeld.de/index.php?option=com_jem&vie
 w=event&id=2578:mtb-ladies-session-an-den-nf-trails-in-oerlinghausen
END:VEVENT
END:VCALENDAR
