
BEGIN:VCALENDAR
VERSION:2.0
PRODID:-//85.13.157.133//NONSGML kigkonsult.se iCalcreator 2.20//
CALSCALE:GREGORIAN
METHOD:PUBLISH
X-WR-TIMEZONE:Europe/Berlin
BEGIN:VEVENT
UID:event2579@NaturFreunde Bielefeld e.V.
DTSTAMP:20260419T184858Z
CATEGORIES:Nordic Walking
DESCRIPTION:Nordic-Walking rund um unser NFH in Oerlinghausen\nKategorie: N
 ordic Walking\nICS-Link: https://www.test.naturfreunde-bielefeld.de/index.
 php?option=com_jem&view=event&id=2579:nordic-walking-rund-um-unser-nfh-in-
 oerlinghausen\n
DTSTART;VALUE=DATE:20250615
DTEND;VALUE=DATE:20250616
SUMMARY:Nordic-Walking rund um unser NFH in Oerlinghausen
URL:https://www.test.naturfreunde-bielefeld.de/index.php?option=com_jem&vie
 w=event&id=2579:nordic-walking-rund-um-unser-nfh-in-oerlinghausen
END:VEVENT
END:VCALENDAR
