
BEGIN:VCALENDAR
VERSION:2.0
PRODID:-//85.13.157.133//NONSGML kigkonsult.se iCalcreator 2.20//
CALSCALE:GREGORIAN
METHOD:PUBLISH
X-WR-TIMEZONE:Europe/Berlin
BEGIN:VEVENT
UID:event2581@NaturFreunde Bielefeld e.V.
DTSTAMP:20260419T171044Z
CATEGORIES:Kanu
DESCRIPTION:Diemel in und um Trendelburg (WA)\nKategorie: Kanu\nICS-Link: h
 ttps://www.test.naturfreunde-bielefeld.de/index.php?option=com_jem&view=ev
 ent&id=2581:diemel-in-und-um-trendelburg-wa\n
DTSTART;VALUE=DATE:20250618
DTEND;VALUE=DATE:20250623
SUMMARY:Diemel in und um Trendelburg (WA)
URL:https://www.test.naturfreunde-bielefeld.de/index.php?option=com_jem&vie
 w=event&id=2581:diemel-in-und-um-trendelburg-wa
END:VEVENT
END:VCALENDAR
