
BEGIN:VCALENDAR
VERSION:2.0
PRODID:-//85.13.157.133//NONSGML kigkonsult.se iCalcreator 2.20//
CALSCALE:GREGORIAN
METHOD:PUBLISH
X-WR-TIMEZONE:Europe/Berlin
BEGIN:VEVENT
UID:event2582@NaturFreunde Bielefeld e.V.
DTSTAMP:20260419T170747Z
CATEGORIES:Jugend
DESCRIPTION:Hochschul-Kletter-Wochenende\nKategorie: Jugend\nICS-Link: http
 s://www.test.naturfreunde-bielefeld.de/index.php?option=com_jem&view=event
 &id=2582:hochschul-kletter-wochenende\n
DTSTART;VALUE=DATE:20250619
DTEND;VALUE=DATE:20250623
SUMMARY:Hochschul-Kletter-Wochenende
URL:https://www.test.naturfreunde-bielefeld.de/index.php?option=com_jem&vie
 w=event&id=2582:hochschul-kletter-wochenende
END:VEVENT
END:VCALENDAR
