
BEGIN:VCALENDAR
VERSION:2.0
PRODID:-//85.13.157.133//NONSGML kigkonsult.se iCalcreator 2.20//
CALSCALE:GREGORIAN
METHOD:PUBLISH
X-WR-TIMEZONE:Europe/Berlin
BEGIN:VEVENT
UID:event2583@NaturFreunde Bielefeld e.V.
DTSTAMP:20260419T183657Z
CATEGORIES:Jugend
DESCRIPTION:CSD Bielefeld gemeinsam mit Demovorbereitung\nKategorie: Jugend
 \nICS-Link: https://www.test.naturfreunde-bielefeld.de/index.php?option=co
 m_jem&view=event&id=2583:csd-bielefeld-gemeinsam-mit-demovorbereitung\n
DTSTART;VALUE=DATE:20250621
DTEND;VALUE=DATE:20250622
SUMMARY:CSD Bielefeld gemeinsam mit Demovorbereitung
URL:https://www.test.naturfreunde-bielefeld.de/index.php?option=com_jem&vie
 w=event&id=2583:csd-bielefeld-gemeinsam-mit-demovorbereitung
END:VEVENT
END:VCALENDAR
