
BEGIN:VCALENDAR
VERSION:2.0
PRODID:-//85.13.157.133//NONSGML kigkonsult.se iCalcreator 2.20//
CALSCALE:GREGORIAN
METHOD:PUBLISH
X-WR-TIMEZONE:Europe/Berlin
BEGIN:VEVENT
UID:event2587@NaturFreunde Bielefeld e.V.
DTSTAMP:20260423T084610Z
CATEGORIES:Kanu
DESCRIPTION:2. DKV Anfängerschulung /Fahrtechnik Wildwasser auf der Lippe i
 n Esbeck\nKategorie: Kanu\nICS-Link: https://www.test.naturfreunde-bielefe
 ld.de/index.php?option=com_jem&view=event&id=2587:2-dkv-anfaengerschulung-
 fahrtechnik-wildwasser-auf-der-lippe-in-esbeck\n
DTSTART;VALUE=DATE:20250628
DTEND;VALUE=DATE:20250629
SUMMARY:2. DKV Anfängerschulung /Fahrtechnik Wildwasser auf der Lippe in Es
 beck
URL:https://www.test.naturfreunde-bielefeld.de/index.php?option=com_jem&vie
 w=event&id=2587:2-dkv-anfaengerschulung-fahrtechnik-wildwasser-auf-der-lip
 pe-in-esbeck
END:VEVENT
END:VCALENDAR
