
BEGIN:VCALENDAR
VERSION:2.0
PRODID:-//85.13.157.133//NONSGML kigkonsult.se iCalcreator 2.20//
CALSCALE:GREGORIAN
METHOD:PUBLISH
X-WR-TIMEZONE:Europe/Berlin
BEGIN:VEVENT
UID:event2588@NaturFreunde Bielefeld e.V.
DTSTAMP:20260419T152812Z
CATEGORIES:Jugend
DESCRIPTION:Düsterwaldwochenende im Naturfreundegarten\nKategorie: Jugend\n
 ICS-Link: https://www.test.naturfreunde-bielefeld.de/index.php?option=com_
 jem&view=event&id=2588:duesterwaldwochenende-im-naturfreundegarten\n
DTSTART;VALUE=DATE:20250628
DTEND;VALUE=DATE:20250630
SUMMARY:Düsterwaldwochenende im Naturfreundegarten
URL:https://www.test.naturfreunde-bielefeld.de/index.php?option=com_jem&vie
 w=event&id=2588:duesterwaldwochenende-im-naturfreundegarten
END:VEVENT
END:VCALENDAR
