
BEGIN:VCALENDAR
VERSION:2.0
PRODID:-//85.13.157.133//NONSGML kigkonsult.se iCalcreator 2.20//
CALSCALE:GREGORIAN
METHOD:PUBLISH
X-WR-TIMEZONE:Europe/Berlin
BEGIN:VEVENT
UID:event2589@NaturFreunde Bielefeld e.V.
DTSTAMP:20260419T170909Z
CATEGORIES:Radtouren
DESCRIPTION:Fahrradtour zur Heerser Mühle\nKategorie: Radtouren\nICS-Link: 
 https://www.test.naturfreunde-bielefeld.de/index.php?option=com_jem&view=e
 vent&id=2589:fahrradtour-zur-heerser-muehle\n
DTSTART;VALUE=DATE:20250629
DTEND;VALUE=DATE:20250630
SUMMARY:Fahrradtour zur Heerser Mühle
URL:https://www.test.naturfreunde-bielefeld.de/index.php?option=com_jem&vie
 w=event&id=2589:fahrradtour-zur-heerser-muehle
END:VEVENT
END:VCALENDAR
