
BEGIN:VCALENDAR
VERSION:2.0
PRODID:-//85.13.157.133//NONSGML kigkonsult.se iCalcreator 2.20//
CALSCALE:GREGORIAN
METHOD:PUBLISH
X-WR-TIMEZONE:Europe/Berlin
BEGIN:VEVENT
UID:event2593@NaturFreunde Bielefeld e.V.
DTSTAMP:20260421T135427Z
CATEGORIES:Wanderungen
DESCRIPTION:Wanderung vom Kreuzkrug über Falkenburg zu den Externsteinen\nK
 ategorie: Wanderungen\nICS-Link: https://www.test.naturfreunde-bielefeld.d
 e/index.php?option=com_jem&view=event&id=2593:wanderung-vom-kreuzkrug-uebe
 r-falkenburg-zu-den-externsteinen\n
DTSTART;VALUE=DATE:20250705
DTEND;VALUE=DATE:20250706
SUMMARY:Wanderung vom Kreuzkrug über Falkenburg zu den Externsteinen
URL:https://www.test.naturfreunde-bielefeld.de/index.php?option=com_jem&vie
 w=event&id=2593:wanderung-vom-kreuzkrug-ueber-falkenburg-zu-den-externstei
 nen
END:VEVENT
END:VCALENDAR
