
BEGIN:VCALENDAR
VERSION:2.0
PRODID:-//85.13.157.133//NONSGML kigkonsult.se iCalcreator 2.20//
CALSCALE:GREGORIAN
METHOD:PUBLISH
X-WR-TIMEZONE:Europe/Berlin
BEGIN:VEVENT
UID:event2595@NaturFreunde Bielefeld e.V.
DTSTAMP:20260421T114843Z
CATEGORIES:Jugend
DESCRIPTION:Wasserski\nKategorie: Jugend\nICS-Link: https://www.test.naturf
 reunde-bielefeld.de/index.php?option=com_jem&view=event&id=2595:wasserski
 \n
DTSTART;VALUE=DATE:20250706
DTEND;VALUE=DATE:20250707
SUMMARY:Wasserski
URL:https://www.test.naturfreunde-bielefeld.de/index.php?option=com_jem&vie
 w=event&id=2595:wasserski
END:VEVENT
END:VCALENDAR
