
BEGIN:VCALENDAR
VERSION:2.0
PRODID:-//85.13.157.133//NONSGML kigkonsult.se iCalcreator 2.20//
CALSCALE:GREGORIAN
METHOD:PUBLISH
X-WR-TIMEZONE:Europe/Berlin
BEGIN:VEVENT
UID:event2597@NaturFreunde Bielefeld e.V.
DTSTAMP:20260421T114914Z
CATEGORIES:Jugend
DESCRIPTION:Aktiv Camp in Bayern\nKategorie: Jugend\nICS-Link: https://www.
 test.naturfreunde-bielefeld.de/index.php?option=com_jem&view=event&id=2597
 :aktiv-camp-in-bayern\n
DTSTART;VALUE=DATE:20250712
DTEND;VALUE=DATE:20250727
SUMMARY:Aktiv Camp in Bayern
URL:https://www.test.naturfreunde-bielefeld.de/index.php?option=com_jem&vie
 w=event&id=2597:aktiv-camp-in-bayern
END:VEVENT
END:VCALENDAR
