
BEGIN:VCALENDAR
VERSION:2.0
PRODID:-//85.13.157.133//NONSGML kigkonsult.se iCalcreator 2.20//
CALSCALE:GREGORIAN
METHOD:PUBLISH
X-WR-TIMEZONE:Europe/Berlin
BEGIN:VEVENT
UID:event2598@NaturFreunde Bielefeld e.V.
DTSTAMP:20260421T114843Z
CATEGORIES:Jugend
DESCRIPTION:Kinder-Sommer-Camp im Ith\nKategorie: Jugend\nICS-Link: https:/
 /www.test.naturfreunde-bielefeld.de/index.php?option=com_jem&view=event&id
 =2598:kinder-sommer-camp-im-ith\n
DTSTART;VALUE=DATE:20250713
DTEND;VALUE=DATE:20250726
SUMMARY:Kinder-Sommer-Camp im Ith
URL:https://www.test.naturfreunde-bielefeld.de/index.php?option=com_jem&vie
 w=event&id=2598:kinder-sommer-camp-im-ith
END:VEVENT
END:VCALENDAR
