
BEGIN:VCALENDAR
VERSION:2.0
PRODID:-//85.13.157.133//NONSGML kigkonsult.se iCalcreator 2.20//
CALSCALE:GREGORIAN
METHOD:PUBLISH
X-WR-TIMEZONE:Europe/Berlin
BEGIN:VEVENT
UID:event2599@NaturFreunde Bielefeld e.V.
DTSTAMP:20260421T114830Z
CATEGORIES:Kanu
DESCRIPTION:Sommerferien\nKategorie: Kanu\nICS-Link: https://www.test.natur
 freunde-bielefeld.de/index.php?option=com_jem&view=event&id=2599:sommerfer
 ien\n
DTSTART;VALUE=DATE:20250714
DTEND;VALUE=DATE:20250827
SUMMARY:Sommerferien
URL:https://www.test.naturfreunde-bielefeld.de/index.php?option=com_jem&vie
 w=event&id=2599:sommerferien
END:VEVENT
END:VCALENDAR
